BEGIN:VCALENDAR
VERSION:2.0
PRODID:-//German Shorthaired Pointer Club of Minnesota - ECPv6.15.20//NONSGML v1.0//EN
CALSCALE:GREGORIAN
METHOD:PUBLISH
X-ORIGINAL-URL:https://gspcmn.com
X-WR-CALDESC:Events for German Shorthaired Pointer Club of Minnesota
REFRESH-INTERVAL;VALUE=DURATION:PT1H
X-Robots-Tag:noindex
X-PUBLISHED-TTL:PT1H
BEGIN:VTIMEZONE
TZID:America/Chicago
BEGIN:DAYLIGHT
TZOFFSETFROM:-0600
TZOFFSETTO:-0500
TZNAME:CDT
DTSTART:20250309T080000
END:DAYLIGHT
BEGIN:STANDARD
TZOFFSETFROM:-0500
TZOFFSETTO:-0600
TZNAME:CST
DTSTART:20251102T070000
END:STANDARD
BEGIN:DAYLIGHT
TZOFFSETFROM:-0600
TZOFFSETTO:-0500
TZNAME:CDT
DTSTART:20260308T080000
END:DAYLIGHT
BEGIN:STANDARD
TZOFFSETFROM:-0500
TZOFFSETTO:-0600
TZNAME:CST
DTSTART:20261101T070000
END:STANDARD
BEGIN:DAYLIGHT
TZOFFSETFROM:-0600
TZOFFSETTO:-0500
TZNAME:CDT
DTSTART:20270314T080000
END:DAYLIGHT
BEGIN:STANDARD
TZOFFSETFROM:-0500
TZOFFSETTO:-0600
TZNAME:CST
DTSTART:20271107T070000
END:STANDARD
END:VTIMEZONE
BEGIN:VEVENT
DTSTART;TZID=America/Chicago:20260315T110000
DTEND;TZID=America/Chicago:20260315T150000
DTSTAMP:20260423T131915
CREATED:20260401T031352Z
LAST-MODIFIED:20260401T031352Z
UID:493-1773572400-1773586800@gspcmn.com
SUMMARY:Members Awards Banquet
DESCRIPTION:Come celebrate our achievements over the last year
URL:https://gspcmn.com/event/members-awards-banquet/
LOCATION:Lake Elmo Event Center\, 3712 Layton Ave N\, Lake Elmo\, MN\, 55042
CATEGORIES:Celebration
END:VEVENT
END:VCALENDAR