BEGIN:VCALENDAR
VERSION:2.0
PRODID:-//German Shorthaired Pointer Club of Minnesota - ECPv6.15.20//NONSGML v1.0//EN
CALSCALE:GREGORIAN
METHOD:PUBLISH
X-WR-CALNAME:German Shorthaired Pointer Club of Minnesota
X-ORIGINAL-URL:https://gspcmn.com
X-WR-CALDESC:Events for German Shorthaired Pointer Club of Minnesota
REFRESH-INTERVAL;VALUE=DURATION:PT1H
X-Robots-Tag:noindex
X-PUBLISHED-TTL:PT1H
BEGIN:VTIMEZONE
TZID:America/Chicago
BEGIN:DAYLIGHT
TZOFFSETFROM:-0600
TZOFFSETTO:-0500
TZNAME:CDT
DTSTART:20230312T080000
END:DAYLIGHT
BEGIN:STANDARD
TZOFFSETFROM:-0500
TZOFFSETTO:-0600
TZNAME:CST
DTSTART:20231105T070000
END:STANDARD
BEGIN:DAYLIGHT
TZOFFSETFROM:-0600
TZOFFSETTO:-0500
TZNAME:CDT
DTSTART:20240310T080000
END:DAYLIGHT
BEGIN:STANDARD
TZOFFSETFROM:-0500
TZOFFSETTO:-0600
TZNAME:CST
DTSTART:20241103T070000
END:STANDARD
BEGIN:DAYLIGHT
TZOFFSETFROM:-0600
TZOFFSETTO:-0500
TZNAME:CDT
DTSTART:20250309T080000
END:DAYLIGHT
BEGIN:STANDARD
TZOFFSETFROM:-0500
TZOFFSETTO:-0600
TZNAME:CST
DTSTART:20251102T070000
END:STANDARD
BEGIN:DAYLIGHT
TZOFFSETFROM:-0600
TZOFFSETTO:-0500
TZNAME:CDT
DTSTART:20260308T080000
END:DAYLIGHT
BEGIN:STANDARD
TZOFFSETFROM:-0500
TZOFFSETTO:-0600
TZNAME:CST
DTSTART:20261101T070000
END:STANDARD
END:VTIMEZONE
BEGIN:VEVENT
DTSTART;VALUE=DATE:20250517
DTEND;VALUE=DATE:20250519
DTSTAMP:20260423T181028
CREATED:20250120T135847Z
LAST-MODIFIED:20250120T135847Z
UID:466-1747440000-1747612799@gspcmn.com
SUMMARY:Hunt Test (Double)
DESCRIPTION:Location TBD\, please keep an eye out for details!
URL:https://gspcmn.com/event/hunt-test-double/
LOCATION:MN
CATEGORIES:Hunting
END:VEVENT
BEGIN:VEVENT
DTSTART;VALUE=DATE:20250505
DTEND;VALUE=DATE:20250512
DTSTAMP:20260423T181028
CREATED:20250120T135710Z
LAST-MODIFIED:20250120T141039Z
UID:463-1746403200-1747007999@gspcmn.com
SUMMARY:GSPCA Nationals
DESCRIPTION:Nationals supported by GSPCA! Look for Minnesotans to be representing our club!
URL:https://gspcmn.com/event/gspca-nationals/
LOCATION:Cowlitz County Event Center\, 1900 7th Ave\, Longview\, WA\, 98632
CATEGORIES:Conformation,Rally and Obedience
END:VEVENT
BEGIN:VEVENT
DTSTART;VALUE=DATE:20250425
DTEND;VALUE=DATE:20250428
DTSTAMP:20260423T181028
CREATED:20250120T135511Z
LAST-MODIFIED:20250120T135511Z
UID:461-1745539200-1745798399@gspcmn.com
SUMMARY:Walking Field Trial
DESCRIPTION:Join us for a beautiful walking field trail in the spring!
URL:https://gspcmn.com/event/walking-field-trial/
LOCATION:Four Brooks WMA\, 27637 US-169\, Onamia\, MN\, 56359
CATEGORIES:Hunting
END:VEVENT
BEGIN:VEVENT
DTSTART;VALUE=DATE:20250316
DTEND;VALUE=DATE:20250317
DTSTAMP:20260423T181028
CREATED:20250120T135409Z
LAST-MODIFIED:20250120T135409Z
UID:459-1742083200-1742169599@gspcmn.com
SUMMARY:Members Awards Bandquet
DESCRIPTION:The German Shorthaired Pointer Club of Minnesota celebrates it’s members and their accomplishments for 2024.
URL:https://gspcmn.com/event/members-awards-bandquet/
LOCATION:Lake Elmo Event Center\, 3712 Layton Ave N\, Lake Elmo\, MN\, 55042
CATEGORIES:Celebration
END:VEVENT
BEGIN:VEVENT
DTSTART;VALUE=DATE:20250214
DTEND;VALUE=DATE:20250217
DTSTAMP:20260423T181028
CREATED:20250120T135144Z
LAST-MODIFIED:20250120T135235Z
UID:457-1739491200-1739750399@gspcmn.com
SUMMARY:Agility Trial
DESCRIPTION:The German Shorthaired Pointer Club of Minnesota will be hosting it’s first agility trial in February. Sign up details to follow.
URL:https://gspcmn.com/event/agility-trial/
LOCATION:On The Run Cainine Center\, 13835 Aberdeen St NE\, Ham Lake\, MN\, 55304
CATEGORIES:Agility
END:VEVENT
BEGIN:VEVENT
DTSTART;VALUE=DATE:20250111
DTEND;VALUE=DATE:20250113
DTSTAMP:20260423T181028
CREATED:20250120T135047Z
LAST-MODIFIED:20250120T135312Z
UID:455-1736553600-1736726399@gspcmn.com
SUMMARY:All-Breed Obedience and Rally Trial
DESCRIPTION:Try your hand at obedience and rally at this all-breed event!
URL:https://gspcmn.com/event/all-breed-obedience-and-rally-trial/
LOCATION:Total Recall School for Dogs\, 17285 Forest Blvd. North\, Hugo\, MN\, 55038
CATEGORIES:Rally and Obedience
END:VEVENT
BEGIN:VEVENT
DTSTART;VALUE=DATE:20250110
DTEND;VALUE=DATE:20250111
DTSTAMP:20260423T181028
CREATED:20250120T134955Z
LAST-MODIFIED:20250120T135306Z
UID:453-1736467200-1736553599@gspcmn.com
SUMMARY:German Shorthair Pointer Specialty and Obedience/Rally Trial
DESCRIPTION:Vintage themed GSP specialty (two shows!) followed by obedience and rally!
URL:https://gspcmn.com/event/german-shorthair-pointer-specialty-and-obedience-rally-trial/
LOCATION:Total Recall School for Dogs\, 17285 Forest Blvd. North\, Hugo\, MN\, 55038
CATEGORIES:Conformation,Rally and Obedience
END:VEVENT
BEGIN:VEVENT
DTSTART;VALUE=DATE:20241108
DTEND;VALUE=DATE:20241111
DTSTAMP:20260423T181028
CREATED:20240117T033224Z
LAST-MODIFIED:20240118T032953Z
UID:242-1731024000-1731283199@gspcmn.com
SUMMARY:All Breed Rally and Obedience Trials
DESCRIPTION:Get one of your last changes at your 2024 rally and obedience trails with the German Shorthaired Pointer Club of Minnesota!
URL:https://gspcmn.com/event/2024-nov-all-breed-rally-and-obedience-trials/
LOCATION:Good GO ING Kennels\, 1188 192nd St\, Baldwin\, WI\, 54002
CATEGORIES:Rally and Obedience
END:VEVENT
BEGIN:VEVENT
DTSTART;VALUE=DATE:20241019
DTEND;VALUE=DATE:20241020
DTSTAMP:20260423T181028
CREATED:20240117T032903Z
LAST-MODIFIED:20240117T032903Z
UID:238-1729296000-1729382399@gspcmn.com
SUMMARY:Quail Challenge
DESCRIPTION:Try out an exciting quail hunt with nothing but bragging rights (and some prizes) on the line\, no AKC pressure!
URL:https://gspcmn.com/event/2024-oct-quail-challenge/
LOCATION:Good GO ING Kennels\, 1188 192nd St\, Baldwin\, WI\, 54002
CATEGORIES:Hunting
END:VEVENT
BEGIN:VEVENT
DTSTART;VALUE=DATE:20241011
DTEND;VALUE=DATE:20241014
DTSTAMP:20260423T181028
CREATED:20240117T032339Z
LAST-MODIFIED:20240422T013244Z
UID:236-1728604800-1728863999@gspcmn.com
SUMMARY:Fast Cat
DESCRIPTION:Join us for round two of our 2024 Fast Cat as we come back to our favorite running grounds!
URL:https://gspcmn.com/event/2024-oct-fast-cat/
LOCATION:Isanti Fairgrounds\, 3101 MN-95\, Cambridge\, MN\, 55008
CATEGORIES:Fast Cat
END:VEVENT
BEGIN:VEVENT
DTSTART;VALUE=DATE:20240928
DTEND;VALUE=DATE:20240930
DTSTAMP:20260423T181028
CREATED:20240603T015125Z
LAST-MODIFIED:20240603T015125Z
UID:442-1727481600-1727654399@gspcmn.com
SUMMARY:Fall Field Trial
DESCRIPTION:Join us for our fall field trial!
URL:https://gspcmn.com/event/fall-field-trial/
LOCATION:Solon Spring
CATEGORIES:Hunting
END:VEVENT
BEGIN:VEVENT
DTSTART;VALUE=DATE:20240914
DTEND;VALUE=DATE:20240916
DTSTAMP:20260423T181028
CREATED:20240117T031735Z
LAST-MODIFIED:20240422T013155Z
UID:231-1726272000-1726444799@gspcmn.com
SUMMARY:Hunt Test (Double)
DESCRIPTION:Our German Shorthaired Pointer Club will be hosting a double-double hunt test\, providing the opportunity to test your dog four times over the course of the weekend!
URL:https://gspcmn.com/event/2024-sept-hunt-test-double/
LOCATION:Wings North\, 19379 Homestead Road\, Pine City\, MN\, 55063
CATEGORIES:Hunting
END:VEVENT
BEGIN:VEVENT
DTSTART;VALUE=DATE:20240706
DTEND;VALUE=DATE:20240708
DTSTAMP:20260423T181028
CREATED:20240117T031507Z
LAST-MODIFIED:20240117T032520Z
UID:229-1720224000-1720396799@gspcmn.com
SUMMARY:All Breed Rally and Obedience Trails
DESCRIPTION:The German Shorthaired Pointer Club of Minnesota welcomes all breeds to our rally and obedience trails for the summer session.
URL:https://gspcmn.com/event/2024-july-all-breed-rally-and-obedience-trails/
LOCATION:Total Recall School for Dogs\, 17285 Forest Blvd. North\, Hugo\, MN\, 55038
CATEGORIES:Rally and Obedience
END:VEVENT
BEGIN:VEVENT
DTSTART;VALUE=DATE:20240705
DTEND;VALUE=DATE:20240706
DTSTAMP:20260423T181028
CREATED:20240118T131102Z
LAST-MODIFIED:20240118T131225Z
UID:409-1720137600-1720223999@gspcmn.com
SUMMARY:German Shorthaired Pointer Summer Specialty
DESCRIPTION:Our club would like to welcome you to the German Shorthaired Pointer speciality\, followed by rally and obidience trails!
URL:https://gspcmn.com/event/german-shorthaired-pointer-summer-specialty/
LOCATION:Total Recall School for Dogs\, 17285 Forest Blvd. North\, Hugo\, MN\, 55038
CATEGORIES:Conformation,Rally and Obedience
END:VEVENT
BEGIN:VEVENT
DTSTART;VALUE=DATE:20240607
DTEND;VALUE=DATE:20240610
DTSTAMP:20260423T181028
CREATED:20240117T031035Z
LAST-MODIFIED:20240422T012908Z
UID:225-1717718400-1717977599@gspcmn.com
SUMMARY:Fast Cat
DESCRIPTION:Join us for the fastest (growing) dog sport\, FAST CAT!
URL:https://gspcmn.com/event/2024-june-fast-cat/
LOCATION:Isanti Fairgrounds\, 3101 MN-95\, Cambridge\, MN\, 55008
CATEGORIES:Fast Cat
END:VEVENT
BEGIN:VEVENT
DTSTART;VALUE=DATE:20240525
DTEND;VALUE=DATE:20240527
DTSTAMP:20260423T181028
CREATED:20240117T030900Z
LAST-MODIFIED:20240118T014728Z
UID:223-1716595200-1716767999@gspcmn.com
SUMMARY:Hunt Test (Single)
DESCRIPTION:Our first hunt test for 2024 will take place in May\, with the dates subject to change.
URL:https://gspcmn.com/event/2024-may-hunt-test-single/
LOCATION:Good GO ING Kennels\, 1188 192nd St\, Baldwin\, WI\, 54002
CATEGORIES:Hunting
END:VEVENT
BEGIN:VEVENT
DTSTART;VALUE=DATE:20240426
DTEND;VALUE=DATE:20240429
DTSTAMP:20260423T181028
CREATED:20240117T090115Z
LAST-MODIFIED:20240422T013457Z
UID:220-1714089600-1714348799@gspcmn.com
SUMMARY:Walking Field Trial
DESCRIPTION:AKC pointing dog trial: premiums avail (links below) for GSP Club MN’s April 26-28 event (it’s split as 2 AKC Event listings). I’d like to thank & introduce our judges Liz Barrett-Dixon Greg Dixon John Zeman Daniel Tang Michael Rodeghiero Todd Meyer. Entries to secretary Courtney Campeau.\nFri-Sat Apr26-27 link: www.apps.akc.org/apps/eventplans/eventsearch/blocks/dsp_generate_pdf.cfm?KEY_BINARY_CONTENT=79998\nSun Apr28 link: www.apps.akc.org/apps/eventplans/eventsearch/blocks/dsp_generate_pdf.cfm?KEY_BINARY_CONTENT=79999
URL:https://gspcmn.com/event/2024-april-walking-field-trial/
LOCATION:Four Brooks WMA\, 27637 US-169\, Onamia\, MN\, 56359
CATEGORIES:Hunting
END:VEVENT
BEGIN:VEVENT
DTSTART;VALUE=DATE:20240317
DTEND;VALUE=DATE:20240318
DTSTAMP:20260423T181028
CREATED:20240117T085454Z
LAST-MODIFIED:20250120T135227Z
UID:214-1710633600-1710719999@gspcmn.com
SUMMARY:Members Awards Bandquet
DESCRIPTION:The German Shorthaired Pointer Club of Minnesota celebrates it’s members and their accomplishments for 2023.
URL:https://gspcmn.com/event/2024-march-members-awards-bandquet/
LOCATION:Lake Elmo Event Center\, 3712 Layton Ave N\, Lake Elmo\, MN\, 55042
CATEGORIES:Celebration
END:VEVENT
BEGIN:VEVENT
DTSTART;VALUE=DATE:20240316
DTEND;VALUE=DATE:20240317
DTSTAMP:20260423T181028
CREATED:20240117T085104Z
LAST-MODIFIED:20240118T014158Z
UID:211-1710547200-1710633599@gspcmn.com
SUMMARY:Judging Seminar
DESCRIPTION:Come learn from AKC judges about hunting tests guidelines and standards!
URL:https://gspcmn.com/event/2024-march-judging-seminar/
LOCATION:Total Recall School for Dogs\, 17285 Forest Blvd. North\, Hugo\, MN\, 55038
CATEGORIES:Education
END:VEVENT
BEGIN:VEVENT
DTSTART;VALUE=DATE:20240216
DTEND;VALUE=DATE:20240219
DTSTAMP:20260423T181028
CREATED:20240117T084738Z
LAST-MODIFIED:20240118T014005Z
UID:208-1708041600-1708300799@gspcmn.com
SUMMARY:Agility Trial
DESCRIPTION:The German Shorthaired Pointer Club of Minnesota will be hosting it’s first agility trial in February. Sign up details to follow.
URL:https://gspcmn.com/event/2024-feb-agility-trial/
LOCATION:On The Run Cainine Center\, 13835 Aberdeen St NE\, Ham Lake\, MN\, 55304
CATEGORIES:Agility
END:VEVENT
END:VCALENDAR