BEGIN:VCALENDAR
VERSION:2.0
PRODID:-//German Shorthaired Pointer Club of Minnesota - ECPv6.15.20//NONSGML v1.0//EN
CALSCALE:GREGORIAN
METHOD:PUBLISH
X-ORIGINAL-URL:https://gspcmn.com
X-WR-CALDESC:Events for German Shorthaired Pointer Club of Minnesota
REFRESH-INTERVAL;VALUE=DURATION:PT1H
X-Robots-Tag:noindex
X-PUBLISHED-TTL:PT1H
BEGIN:VTIMEZONE
TZID:America/Chicago
BEGIN:DAYLIGHT
TZOFFSETFROM:-0600
TZOFFSETTO:-0500
TZNAME:CDT
DTSTART:20250309T080000
END:DAYLIGHT
BEGIN:STANDARD
TZOFFSETFROM:-0500
TZOFFSETTO:-0600
TZNAME:CST
DTSTART:20251102T070000
END:STANDARD
BEGIN:DAYLIGHT
TZOFFSETFROM:-0600
TZOFFSETTO:-0500
TZNAME:CDT
DTSTART:20260308T080000
END:DAYLIGHT
BEGIN:STANDARD
TZOFFSETFROM:-0500
TZOFFSETTO:-0600
TZNAME:CST
DTSTART:20261101T070000
END:STANDARD
BEGIN:DAYLIGHT
TZOFFSETFROM:-0600
TZOFFSETTO:-0500
TZNAME:CDT
DTSTART:20270314T080000
END:DAYLIGHT
BEGIN:STANDARD
TZOFFSETFROM:-0500
TZOFFSETTO:-0600
TZNAME:CST
DTSTART:20271107T070000
END:STANDARD
BEGIN:DAYLIGHT
TZOFFSETFROM:-0600
TZOFFSETTO:-0500
TZNAME:CDT
DTSTART:20280312T080000
END:DAYLIGHT
BEGIN:STANDARD
TZOFFSETFROM:-0500
TZOFFSETTO:-0600
TZNAME:CST
DTSTART:20281105T070000
END:STANDARD
END:VTIMEZONE
BEGIN:VEVENT
DTSTART;VALUE=DATE:20260418
DTEND;VALUE=DATE:20260419
DTSTAMP:20260423T180935
CREATED:20260401T031554Z
LAST-MODIFIED:20260401T031554Z
UID:495-1776470400-1776556799@gspcmn.com
SUMMARY:Fetch\, ATT\, Trick\, and CGC Event
DESCRIPTION:Come see how your dog can do at our combined Fetch\, ATT\, Trick\, and CGC event!
URL:https://gspcmn.com/event/fetch-att-trick-and-cgc-event/
LOCATION:Total Recall School for Dogs\, 17285 Forest Blvd. North\, Hugo\, MN\, 55038
CATEGORIES:Fetch
END:VEVENT
BEGIN:VEVENT
DTSTART;VALUE=DATE:20260424
DTEND;VALUE=DATE:20260427
DTSTAMP:20260423T180935
CREATED:20260401T031732Z
LAST-MODIFIED:20260401T031732Z
UID:498-1776988800-1777247999@gspcmn.com
SUMMARY:Walking Field Trial
DESCRIPTION:Come to our spring walking field trial\, at a stunning venue!
URL:https://gspcmn.com/event/walking-field-trial-2/
LOCATION:Four Brooks WMA\, 27637 US-169\, Onamia\, MN\, 56359
CATEGORIES:Hunting
END:VEVENT
BEGIN:VEVENT
DTSTART;VALUE=DATE:20260516
DTEND;VALUE=DATE:20260518
DTSTAMP:20260423T180935
CREATED:20260401T031904Z
LAST-MODIFIED:20260401T031904Z
UID:500-1778889600-1779062399@gspcmn.com
SUMMARY:Hunt Test (Double)
DESCRIPTION:Knock out two hunt tests over the course of the weekend!
URL:https://gspcmn.com/event/hunt-test-double-3/
LOCATION:Wings North\, 19379 Homestead Road\, Pine City\, MN\, 55063
CATEGORIES:Hunting
END:VEVENT
BEGIN:VEVENT
DTSTART;VALUE=DATE:20260618
DTEND;VALUE=DATE:20260622
DTSTAMP:20260423T180935
CREATED:20260401T032126Z
LAST-MODIFIED:20260401T032126Z
UID:502-1781740800-1782086399@gspcmn.com
SUMMARY:Designated Specialties with GSPCA Reginal Event – Summer Solstice
DESCRIPTION:Four days of specialties\, at the Summer Solstice event!
URL:https://gspcmn.com/event/designated-specialties-with-gspca-reginal-event-summer-solstice/
LOCATION:Isanti Fairgrounds\, 3101 MN-95\, Cambridge\, MN\, 55008
CATEGORIES:Conformation
END:VEVENT
BEGIN:VEVENT
DTSTART;VALUE=DATE:20260703
DTEND;VALUE=DATE:20260704
DTSTAMP:20260423T180935
CREATED:20260401T032242Z
LAST-MODIFIED:20260401T032242Z
UID:504-1783036800-1783123199@gspcmn.com
SUMMARY:GSP Conformation Specialties w/Rally & Obedience
DESCRIPTION:GSP Conformation event with Rally and Obedience
URL:https://gspcmn.com/event/gsp-conformation-specialties-w-rally-obedience/
LOCATION:Total Recall School for Dogs\, 17285 Forest Blvd. North\, Hugo\, MN\, 55038
CATEGORIES:Conformation,Rally and Obedience
END:VEVENT
BEGIN:VEVENT
DTSTART;VALUE=DATE:20260704
DTEND;VALUE=DATE:20260706
DTSTAMP:20260423T180935
CREATED:20260401T032348Z
LAST-MODIFIED:20260401T033425Z
UID:506-1783123200-1783295999@gspcmn.com
SUMMARY:All Breed Obedience and Rally Trial
DESCRIPTION:Come support our club at our All-Breed Rally and Obedience Trial!
URL:https://gspcmn.com/event/rally-and-obedience-trial-all-breed/
LOCATION:Total Recall School for Dogs\, 17285 Forest Blvd. North\, Hugo\, MN\, 55038
CATEGORIES:Rally and Obedience
END:VEVENT
BEGIN:VEVENT
DTSTART;VALUE=DATE:20260725
DTEND;VALUE=DATE:20260726
DTSTAMP:20260423T180935
CREATED:20260401T032515Z
LAST-MODIFIED:20260401T032515Z
UID:508-1784937600-1785023999@gspcmn.com
SUMMARY:Rattlesnake Avoidence Clinic
DESCRIPTION:Did you know Rattlesnakes are present in SE Minnesota? Learn how to encounter them in a controlled manner.
URL:https://gspcmn.com/event/rattlesnake-avoidence-clinic/
LOCATION:MN
CATEGORIES:Education
END:VEVENT
BEGIN:VEVENT
DTSTART;VALUE=DATE:20260726
DTEND;VALUE=DATE:20260727
DTSTAMP:20260423T180935
CREATED:20260401T032638Z
LAST-MODIFIED:20260401T032638Z
UID:510-1785024000-1785110399@gspcmn.com
SUMMARY:Fetch Event
DESCRIPTION:Does your dog have what it takes to be AKC Fetch approved?
URL:https://gspcmn.com/event/fetch-event/
LOCATION:On The Run Cainine Center\, 13835 Aberdeen St NE\, Ham Lake\, MN\, 55304
CATEGORIES:Fetch
END:VEVENT
BEGIN:VEVENT
DTSTART;VALUE=DATE:20260911
DTEND;VALUE=DATE:20260914
DTSTAMP:20260423T180935
CREATED:20260401T032750Z
LAST-MODIFIED:20260401T032750Z
UID:512-1789084800-1789343999@gspcmn.com
SUMMARY:Field Trial
DESCRIPTION:Our fall field trail!
URL:https://gspcmn.com/event/field-trial/
LOCATION:Solon Spring
CATEGORIES:Hunting
END:VEVENT
BEGIN:VEVENT
DTSTART;VALUE=DATE:20260912
DTEND;VALUE=DATE:20260914
DTSTAMP:20260423T180935
CREATED:20260401T032903Z
LAST-MODIFIED:20260401T032903Z
UID:514-1789171200-1789343999@gspcmn.com
SUMMARY:Hunt Test (Double)
DESCRIPTION:Come complete two hunt tests over a weekend!
URL:https://gspcmn.com/event/hunt-test-double-4/
LOCATION:Wings North\, 19379 Homestead Road\, Pine City\, MN\, 55063
CATEGORIES:Hunting
END:VEVENT
BEGIN:VEVENT
DTSTART;VALUE=DATE:20261009
DTEND;VALUE=DATE:20261012
DTSTAMP:20260423T180935
CREATED:20260401T033004Z
LAST-MODIFIED:20260401T033004Z
UID:516-1791504000-1791763199@gspcmn.com
SUMMARY:Fast CAT
DESCRIPTION:Come see the fastest dogs this side of the Mississippi!
URL:https://gspcmn.com/event/fast-cat-3/
LOCATION:MN
CATEGORIES:Fast Cat
END:VEVENT
BEGIN:VEVENT
DTSTART;VALUE=DATE:20261106
DTEND;VALUE=DATE:20261109
DTSTAMP:20260423T180935
CREATED:20260401T033107Z
LAST-MODIFIED:20260401T033107Z
UID:518-1793923200-1794182399@gspcmn.com
SUMMARY:All Breed Obedience and Rally Trial
DESCRIPTION:Come support our clubs all breed trails!
URL:https://gspcmn.com/event/all-breed-obedience-and-rally-trial-4/
LOCATION:Total Recall School for Dogs\, 17285 Forest Blvd. North\, Hugo\, MN\, 55038
CATEGORIES:Rally and Obedience
END:VEVENT
BEGIN:VEVENT
DTSTART;VALUE=DATE:20261113
DTEND;VALUE=DATE:20261116
DTSTAMP:20260423T180935
CREATED:20260401T033204Z
LAST-MODIFIED:20260401T033204Z
UID:520-1794528000-1794787199@gspcmn.com
SUMMARY:Agility Trial
DESCRIPTION:Come see the most exciting dog sport in person!
URL:https://gspcmn.com/event/agility-trial-4/
LOCATION:On The Run Cainine Center\, 13835 Aberdeen St NE\, Ham Lake\, MN\, 55304
CATEGORIES:Agility
END:VEVENT
BEGIN:VEVENT
DTSTART;VALUE=DATE:20270115
DTEND;VALUE=DATE:20270116
DTSTAMP:20260423T180935
CREATED:20260401T033310Z
LAST-MODIFIED:20260401T033310Z
UID:522-1799971200-1800057599@gspcmn.com
SUMMARY:GSP Conformation Specialties w/Rally & Obedience
DESCRIPTION:
URL:https://gspcmn.com/event/gsp-conformation-specialties-w-rally-obedience-2/
LOCATION:Total Recall School for Dogs\, 17285 Forest Blvd. North\, Hugo\, MN\, 55038
CATEGORIES:Conformation,Rally and Obedience
END:VEVENT
BEGIN:VEVENT
DTSTART;VALUE=DATE:20270116
DTEND;VALUE=DATE:20270118
DTSTAMP:20260423T180935
CREATED:20260401T033353Z
LAST-MODIFIED:20260401T033353Z
UID:524-1800057600-1800230399@gspcmn.com
SUMMARY:All Breed Obedience and Rally Trial
DESCRIPTION:
URL:https://gspcmn.com/event/all-breed-obedience-and-rally-trial-5/
LOCATION:Total Recall School for Dogs\, 17285 Forest Blvd. North\, Hugo\, MN\, 55038
CATEGORIES:Rally and Obedience
END:VEVENT
END:VCALENDAR