BEGIN:VCALENDAR
VERSION:2.0
PRODID:-//German Shorthaired Pointer Club of Minnesota - ECPv6.15.20//NONSGML v1.0//EN
CALSCALE:GREGORIAN
METHOD:PUBLISH
X-ORIGINAL-URL:https://gspcmn.com
X-WR-CALDESC:Events for German Shorthaired Pointer Club of Minnesota
REFRESH-INTERVAL;VALUE=DURATION:PT1H
X-Robots-Tag:noindex
X-PUBLISHED-TTL:PT1H
BEGIN:VTIMEZONE
TZID:America/Chicago
BEGIN:DAYLIGHT
TZOFFSETFROM:-0600
TZOFFSETTO:-0500
TZNAME:CDT
DTSTART:20230312T080000
END:DAYLIGHT
BEGIN:STANDARD
TZOFFSETFROM:-0500
TZOFFSETTO:-0600
TZNAME:CST
DTSTART:20231105T070000
END:STANDARD
BEGIN:DAYLIGHT
TZOFFSETFROM:-0600
TZOFFSETTO:-0500
TZNAME:CDT
DTSTART:20240310T080000
END:DAYLIGHT
BEGIN:STANDARD
TZOFFSETFROM:-0500
TZOFFSETTO:-0600
TZNAME:CST
DTSTART:20241103T070000
END:STANDARD
BEGIN:DAYLIGHT
TZOFFSETFROM:-0600
TZOFFSETTO:-0500
TZNAME:CDT
DTSTART:20250309T080000
END:DAYLIGHT
BEGIN:STANDARD
TZOFFSETFROM:-0500
TZOFFSETTO:-0600
TZNAME:CST
DTSTART:20251102T070000
END:STANDARD
BEGIN:DAYLIGHT
TZOFFSETFROM:-0600
TZOFFSETTO:-0500
TZNAME:CDT
DTSTART:20260308T080000
END:DAYLIGHT
BEGIN:STANDARD
TZOFFSETFROM:-0500
TZOFFSETTO:-0600
TZNAME:CST
DTSTART:20261101T070000
END:STANDARD
END:VTIMEZONE
BEGIN:VEVENT
DTSTART;VALUE=DATE:20250913
DTEND;VALUE=DATE:20250915
DTSTAMP:20260423T133549
CREATED:20250120T140533Z
LAST-MODIFIED:20250120T140533Z
UID:475-1757721600-1757894399@gspcmn.com
SUMMARY:Hunt Test (Double)
DESCRIPTION:Join us for our fall pointer hunt test\, a double/double\, which gives you four chances in two days!
URL:https://gspcmn.com/event/hunt-test-double-2/
LOCATION:Wings North\, 19379 Homestead Road\, Pine City\, MN\, 55063
CATEGORIES:Hunting
END:VEVENT
BEGIN:VEVENT
DTSTART;VALUE=DATE:20250912
DTEND;VALUE=DATE:20250915
DTSTAMP:20260423T133549
CREATED:20250120T140634Z
LAST-MODIFIED:20250120T140634Z
UID:477-1757635200-1757894399@gspcmn.com
SUMMARY:Horse Back Field Trial
DESCRIPTION:Our fall horse back field trial will be hosted in Solon Springs\, Wisconsin this year!
URL:https://gspcmn.com/event/horse-back-field-trial/
LOCATION:Solon Spring
CATEGORIES:Hunting
END:VEVENT
BEGIN:VEVENT
DTSTART;VALUE=DATE:20250517
DTEND;VALUE=DATE:20250519
DTSTAMP:20260423T133549
CREATED:20250120T135847Z
LAST-MODIFIED:20250120T135847Z
UID:466-1747440000-1747612799@gspcmn.com
SUMMARY:Hunt Test (Double)
DESCRIPTION:Location TBD\, please keep an eye out for details!
URL:https://gspcmn.com/event/hunt-test-double/
LOCATION:MN
CATEGORIES:Hunting
END:VEVENT
BEGIN:VEVENT
DTSTART;VALUE=DATE:20250425
DTEND;VALUE=DATE:20250428
DTSTAMP:20260423T133549
CREATED:20250120T135511Z
LAST-MODIFIED:20250120T135511Z
UID:461-1745539200-1745798399@gspcmn.com
SUMMARY:Walking Field Trial
DESCRIPTION:Join us for a beautiful walking field trail in the spring!
URL:https://gspcmn.com/event/walking-field-trial/
LOCATION:Four Brooks WMA\, 27637 US-169\, Onamia\, MN\, 56359
CATEGORIES:Hunting
END:VEVENT
BEGIN:VEVENT
DTSTART;VALUE=DATE:20241019
DTEND;VALUE=DATE:20241020
DTSTAMP:20260423T133549
CREATED:20240117T032903Z
LAST-MODIFIED:20240117T032903Z
UID:238-1729296000-1729382399@gspcmn.com
SUMMARY:Quail Challenge
DESCRIPTION:Try out an exciting quail hunt with nothing but bragging rights (and some prizes) on the line\, no AKC pressure!
URL:https://gspcmn.com/event/2024-oct-quail-challenge/
LOCATION:Good GO ING Kennels\, 1188 192nd St\, Baldwin\, WI\, 54002
CATEGORIES:Hunting
END:VEVENT
BEGIN:VEVENT
DTSTART;VALUE=DATE:20240928
DTEND;VALUE=DATE:20240930
DTSTAMP:20260423T133549
CREATED:20240603T015125Z
LAST-MODIFIED:20240603T015125Z
UID:442-1727481600-1727654399@gspcmn.com
SUMMARY:Fall Field Trial
DESCRIPTION:Join us for our fall field trial!
URL:https://gspcmn.com/event/fall-field-trial/
LOCATION:Solon Spring
CATEGORIES:Hunting
END:VEVENT
BEGIN:VEVENT
DTSTART;VALUE=DATE:20240914
DTEND;VALUE=DATE:20240916
DTSTAMP:20260423T133549
CREATED:20240117T031735Z
LAST-MODIFIED:20240422T013155Z
UID:231-1726272000-1726444799@gspcmn.com
SUMMARY:Hunt Test (Double)
DESCRIPTION:Our German Shorthaired Pointer Club will be hosting a double-double hunt test\, providing the opportunity to test your dog four times over the course of the weekend!
URL:https://gspcmn.com/event/2024-sept-hunt-test-double/
LOCATION:Wings North\, 19379 Homestead Road\, Pine City\, MN\, 55063
CATEGORIES:Hunting
END:VEVENT
BEGIN:VEVENT
DTSTART;VALUE=DATE:20240525
DTEND;VALUE=DATE:20240527
DTSTAMP:20260423T133549
CREATED:20240117T030900Z
LAST-MODIFIED:20240118T014728Z
UID:223-1716595200-1716767999@gspcmn.com
SUMMARY:Hunt Test (Single)
DESCRIPTION:Our first hunt test for 2024 will take place in May\, with the dates subject to change.
URL:https://gspcmn.com/event/2024-may-hunt-test-single/
LOCATION:Good GO ING Kennels\, 1188 192nd St\, Baldwin\, WI\, 54002
CATEGORIES:Hunting
END:VEVENT
BEGIN:VEVENT
DTSTART;VALUE=DATE:20240426
DTEND;VALUE=DATE:20240429
DTSTAMP:20260423T133549
CREATED:20240117T090115Z
LAST-MODIFIED:20240422T013457Z
UID:220-1714089600-1714348799@gspcmn.com
SUMMARY:Walking Field Trial
DESCRIPTION:AKC pointing dog trial: premiums avail (links below) for GSP Club MN’s April 26-28 event (it’s split as 2 AKC Event listings). I’d like to thank & introduce our judges Liz Barrett-Dixon Greg Dixon John Zeman Daniel Tang Michael Rodeghiero Todd Meyer. Entries to secretary Courtney Campeau.\nFri-Sat Apr26-27 link: www.apps.akc.org/apps/eventplans/eventsearch/blocks/dsp_generate_pdf.cfm?KEY_BINARY_CONTENT=79998\nSun Apr28 link: www.apps.akc.org/apps/eventplans/eventsearch/blocks/dsp_generate_pdf.cfm?KEY_BINARY_CONTENT=79999
URL:https://gspcmn.com/event/2024-april-walking-field-trial/
LOCATION:Four Brooks WMA\, 27637 US-169\, Onamia\, MN\, 56359
CATEGORIES:Hunting
END:VEVENT
END:VCALENDAR