BEGIN:VCALENDAR
VERSION:2.0
PRODID:-//German Shorthaired Pointer Club of Minnesota - ECPv6.15.20//NONSGML v1.0//EN
CALSCALE:GREGORIAN
METHOD:PUBLISH
X-ORIGINAL-URL:https://gspcmn.com
X-WR-CALDESC:Events for German Shorthaired Pointer Club of Minnesota
REFRESH-INTERVAL;VALUE=DURATION:PT1H
X-Robots-Tag:noindex
X-PUBLISHED-TTL:PT1H
BEGIN:VTIMEZONE
TZID:America/Chicago
BEGIN:DAYLIGHT
TZOFFSETFROM:-0600
TZOFFSETTO:-0500
TZNAME:CDT
DTSTART:20230312T080000
END:DAYLIGHT
BEGIN:STANDARD
TZOFFSETFROM:-0500
TZOFFSETTO:-0600
TZNAME:CST
DTSTART:20231105T070000
END:STANDARD
BEGIN:DAYLIGHT
TZOFFSETFROM:-0600
TZOFFSETTO:-0500
TZNAME:CDT
DTSTART:20240310T080000
END:DAYLIGHT
BEGIN:STANDARD
TZOFFSETFROM:-0500
TZOFFSETTO:-0600
TZNAME:CST
DTSTART:20241103T070000
END:STANDARD
BEGIN:DAYLIGHT
TZOFFSETFROM:-0600
TZOFFSETTO:-0500
TZNAME:CDT
DTSTART:20250309T080000
END:DAYLIGHT
BEGIN:STANDARD
TZOFFSETFROM:-0500
TZOFFSETTO:-0600
TZNAME:CST
DTSTART:20251102T070000
END:STANDARD
BEGIN:DAYLIGHT
TZOFFSETFROM:-0600
TZOFFSETTO:-0500
TZNAME:CDT
DTSTART:20260308T080000
END:DAYLIGHT
BEGIN:STANDARD
TZOFFSETFROM:-0500
TZOFFSETTO:-0600
TZNAME:CST
DTSTART:20261101T070000
END:STANDARD
BEGIN:DAYLIGHT
TZOFFSETFROM:-0600
TZOFFSETTO:-0500
TZNAME:CDT
DTSTART:20270314T080000
END:DAYLIGHT
BEGIN:STANDARD
TZOFFSETFROM:-0500
TZOFFSETTO:-0600
TZNAME:CST
DTSTART:20271107T070000
END:STANDARD
END:VTIMEZONE
BEGIN:VEVENT
DTSTART;VALUE=DATE:20260213
DTEND;VALUE=DATE:20260216
DTSTAMP:20260423T132505
CREATED:20260401T031227Z
LAST-MODIFIED:20260401T031425Z
UID:489-1770940800-1771199999@gspcmn.com
SUMMARY:Agility Trial
DESCRIPTION:Let your dogs run free (but controlled) in our spring agility trial!
URL:https://gspcmn.com/event/agility-trial-3/
LOCATION:On The Run Cainine Center\, 13835 Aberdeen St NE\, Ham Lake\, MN\, 55304
CATEGORIES:Agility
END:VEVENT
BEGIN:VEVENT
DTSTART;VALUE=DATE:20251113
DTEND;VALUE=DATE:20251116
DTSTAMP:20260423T132505
CREATED:20250120T141018Z
LAST-MODIFIED:20250120T141018Z
UID:484-1762992000-1763251199@gspcmn.com
SUMMARY:Agility Trial
DESCRIPTION:Let your dogs run free (but controlled) in our fall agility trial!
URL:https://gspcmn.com/event/agility-trial-2/
LOCATION:On The Run Cainine Center\, 13835 Aberdeen St NE\, Ham Lake\, MN\, 55304
CATEGORIES:Agility
END:VEVENT
BEGIN:VEVENT
DTSTART;VALUE=DATE:20250214
DTEND;VALUE=DATE:20250217
DTSTAMP:20260423T132505
CREATED:20250120T135144Z
LAST-MODIFIED:20250120T135235Z
UID:457-1739491200-1739750399@gspcmn.com
SUMMARY:Agility Trial
DESCRIPTION:The German Shorthaired Pointer Club of Minnesota will be hosting it’s first agility trial in February. Sign up details to follow.
URL:https://gspcmn.com/event/agility-trial/
LOCATION:On The Run Cainine Center\, 13835 Aberdeen St NE\, Ham Lake\, MN\, 55304
CATEGORIES:Agility
END:VEVENT
BEGIN:VEVENT
DTSTART;VALUE=DATE:20240216
DTEND;VALUE=DATE:20240219
DTSTAMP:20260423T132505
CREATED:20240117T084738Z
LAST-MODIFIED:20240118T014005Z
UID:208-1708041600-1708300799@gspcmn.com
SUMMARY:Agility Trial
DESCRIPTION:The German Shorthaired Pointer Club of Minnesota will be hosting it’s first agility trial in February. Sign up details to follow.
URL:https://gspcmn.com/event/2024-feb-agility-trial/
LOCATION:On The Run Cainine Center\, 13835 Aberdeen St NE\, Ham Lake\, MN\, 55304
CATEGORIES:Agility
END:VEVENT
END:VCALENDAR